BEGIN:VCALENDAR
VERSION:2.0
PRODID:icalendar-ruby
CALSCALE:GREGORIAN
METHOD:PUBLISH
BEGIN:VEVENT
DTSTAMP:20260424T135956Z
UID:401-1798512@gbccalgary.com
DTSTART:20260426T153000Z
DTEND:20260426T161500Z
CLASS:PUBLIC
CREATED:20260423T110456
DESCRIPTION:Join us every Sunday morning from Feb 15 - March 22.
LAST-MODIFIED:20260423T110456
LOCATION:
SUMMARY:Ephesians Bible Study with Andy Price
URL;VALUE=URI:https://gbccalgary.com/events/ephesians-bible-study-with-andy
 -price/2026-04-26
ATTACH;FILENAME=Ephesians Bible Study.png;FMTTYPE=image/png:https://dq5pwpg
 1q8ru0.cloudfront.net/2026/04/23/17/04/55/ab191b66-3715-4718-a110-6566285a
 62cc/Ephesians%20Bible%20Study.png
END:VEVENT
END:VCALENDAR
