BEGIN:VCALENDAR
VERSION:2.0
PRODID:icalendar-ruby
CALSCALE:GREGORIAN
METHOD:PUBLISH
BEGIN:VEVENT
DTSTAMP:20260423T044811Z
UID:370-1793031@gbccalgary.com
DTSTART:20260509T010000Z
DTEND:20260509T020000Z
CLASS:PUBLIC
CREATED:20260422T153332
DESCRIPTION:
LAST-MODIFIED:20260422T153332
LOCATION:Grace Baptist Church
SUMMARY:Rolling With Grace
URL;VALUE=URI:https://gbccalgary.com/events/rolling-with-grace/2026-05-08
ATTACH;FILENAME=adies of Grace (4).png;FMTTYPE=image/png:https://dq5pwpg1q8
 ru0.cloudfront.net/2025/10/21/23/00/03/e07bcfee-b96b-46ab-b649-d7764ed9b03
 2/adies%20of%20Grace%20(4).png
END:VEVENT
END:VCALENDAR
